BEGIN:VCALENDAR
VERSION:2.0
PRODID:-//Mairie de l’Étang-Salé//NONSGML kigkonsult.se iCalcreator 2.41.92//
CALSCALE:GREGORIAN
METHOD:PUBLISH
UID:64376665-3931-4435-b832-616562623933
X-WR-CALNAME:iCagenda
X-WR-CALDESC:Event Management Extension for Joomla!
X-WR-RELCALID:3E26604A-50F4-4449-8B3E-E4F4932D05B5
X-WR-TIMEZONE:Indian/Reunion
BEGIN:VTIMEZONE
TZID:Indian/Reunion
BEGIN:STANDARD
TZNAME:+04
DTSTART:20240722T200000
TZOFFSETFROM:+0000
TZOFFSETTO:+0400
END:STANDARD
END:VTIMEZONE
BEGIN:VEVENT
UID:62613637-3564-4135-b665-616236616333
DTSTAMP:20260425T173042Z
CATEGORIES:Sports - Loisirs
CLASS:PUBLIC
DESCRIPTION:
DTSTART:20260424T090400Z
DTEND:20260426T090400Z
GEO:00;0
LOCATION:
ORGANIZER:
SEQUENCE:1
SUMMARY:Planning des compétitions sportives 24 au 26 avril 2026
TRANSP:OPAQUE
URL:https://www.letangsale.fr/mes-acces-rapides/telechargements/l-agenda-de
 s-manifestations/688-planning-des-competitions-sportives-24-au-26-avril-20
 26
END:VEVENT
END:VCALENDAR
