BEGIN:VCALENDAR
VERSION:2.0
PRODID:-//Mairie de l’Étang-Salé//NONSGML kigkonsult.se iCalcreator 2.41.92//
CALSCALE:GREGORIAN
METHOD:PUBLISH
UID:33373731-3861-4237-b232-383738643239
X-WR-CALNAME:iCagenda
X-WR-CALDESC:Event Management Extension for Joomla!
X-WR-RELCALID:3E26604A-50F4-4449-8B3E-E4F4932D05B5
X-WR-TIMEZONE:Indian/Reunion
BEGIN:VTIMEZONE
TZID:Indian/Reunion
BEGIN:STANDARD
TZNAME:+04
DTSTART:20230424T200000
TZOFFSETFROM:+0000
TZOFFSETTO:+0400
END:STANDARD
END:VTIMEZONE
BEGIN:VEVENT
UID:35626536-3631-4936-b034-626266333061
DTSTAMP:20260424T075707Z
CATEGORIES:Sports - Loisirs
CLASS:PUBLIC
DESCRIPTION:
DTSTART:20250124T043200Z
DTEND:20250126T043200Z
GEO:00;0
LOCATION:
ORGANIZER:
SEQUENCE:1
SUMMARY:Planning des compétitions sportives - Semaine du 24 au 26 janvier 2
 025
TRANSP:OPAQUE
URL:https://www.letangsale.fr/mes-acces-rapides/telechargements/l-agenda-de
 s-manifestations/508-planning-des-competitions-sportives-semaine-du-24-au-
 26-janvier-2025
END:VEVENT
END:VCALENDAR
