BEGIN:VCALENDAR
VERSION:2.0
PRODID:-//Mairie de l’Étang-Salé//NONSGML kigkonsult.se iCalcreator 2.41.92//
CALSCALE:GREGORIAN
METHOD:PUBLISH
UID:31333333-3233-4137-b631-353832326636
X-WR-CALNAME:iCagenda
X-WR-CALDESC:Event Management Extension for Joomla!
X-WR-RELCALID:3E26604A-50F4-4449-8B3E-E4F4932D05B5
X-WR-TIMEZONE:Indian/Reunion
BEGIN:VTIMEZONE
TZID:Indian/Reunion
BEGIN:STANDARD
TZNAME:+04
DTSTART:20221009T200000
TZOFFSETFROM:+0000
TZOFFSETTO:+0400
END:STANDARD
END:VTIMEZONE
BEGIN:VEVENT
UID:65363930-3961-4539-b261-613533343633
DTSTAMP:20260422T163806Z
CATEGORIES:Jeunesse
CLASS:PUBLIC
DESCRIPTION:
DTSTART:20240711T130000Z
DTEND:20240711T180000Z
GEO:00;0
LOCATION:
ORGANIZER:
SEQUENCE:1
SUMMARY:Soirée des lauréats
TRANSP:OPAQUE
URL:https://www.letangsale.fr/mes-acces-rapides/telechargements/l-agenda-de
 s-manifestations/416-soiree-des-laureats
END:VEVENT
END:VCALENDAR
