BEGIN:VCALENDAR
VERSION:2.0
PRODID:-//Mairie de l’Étang-Salé//NONSGML kigkonsult.se iCalcreator 2.41.92//
CALSCALE:GREGORIAN
METHOD:PUBLISH
UID:33356564-3863-4365-b538-636565333062
X-WR-CALNAME:iCagenda
X-WR-CALDESC:Event Management Extension for Joomla!
X-WR-RELCALID:3E26604A-50F4-4449-8B3E-E4F4932D05B5
X-WR-TIMEZONE:Indian/Reunion
BEGIN:VTIMEZONE
TZID:Indian/Reunion
BEGIN:STANDARD
TZNAME:+04
DTSTART:20220514T200000
TZOFFSETFROM:+0000
TZOFFSETTO:+0400
END:STANDARD
END:VTIMEZONE
BEGIN:VEVENT
UID:61663037-3064-4430-b034-343837613531
DTSTAMP:20260422T000245Z
CATEGORIES:Culture - Animation
CLASS:PUBLIC
DESCRIPTION:
DTSTART:20240214T110000Z
DTEND:20240214T120000Z
GEO:00;0
LOCATION:
ORGANIZER:
SEQUENCE:1
SUMMARY:Eveil musical
TRANSP:OPAQUE
URL:https://www.letangsale.fr/mes-acces-rapides/telechargements/l-agenda-de
 s-manifestations/352-eveil-musical
END:VEVENT
END:VCALENDAR
