BEGIN:VCALENDAR
VERSION:2.0
PRODID:-//Mairie de l’Étang-Salé//NONSGML kigkonsult.se iCalcreator 2.41.92//
CALSCALE:GREGORIAN
METHOD:PUBLISH
UID:36646165-3235-4161-b464-633936623333
X-WR-CALNAME:iCagenda
X-WR-CALDESC:Event Management Extension for Joomla!
X-WR-RELCALID:3E26604A-50F4-4449-8B3E-E4F4932D05B5
X-WR-TIMEZONE:Indian/Reunion
BEGIN:VTIMEZONE
TZID:Indian/Reunion
BEGIN:STANDARD
TZNAME:+04
DTSTART:20190415T200000
TZOFFSETFROM:+0000
TZOFFSETTO:+0400
END:STANDARD
END:VTIMEZONE
BEGIN:VEVENT
UID:65646139-3433-4138-b734-333437623937
DTSTAMP:20260421T142701Z
CATEGORIES:Théâtre
CLASS:PUBLIC
DESCRIPTION;ALTREP="CID:<FFFF__=0ABBE548DFE235B58f9e8a93d@coffeebean.com>":
 « Qui sait ce que voit l’autruche dans le sable » est un spectacle sur tab
 le avec des personnages- marionnettes. Les personnages et les thématiques 
 traités dans le spectacle sont librement inspirés de l’oeuvre de Beckett.
 \n&nbsp\;\nLE RÉSUMÉ :\nUn désert de sable\, un espace vierge ? Le temps e
 nfin suspendu ? Un personnage au chapeau melon\, en quête de solitude et d
 e silence. L’endroit rêvé !Mais… tout un univers enfoui dans le sable se r
 évèle et prend vie peu à peu sous l’action du personnage-acteur qui découv
 re dans des valises fossilisées\, ces 'petites vies' singulières ou chacun
  s’invente et tente d’exister dans son espace clos.\n« N’importe quel imbé
 cile peut fermer les yeux mais qui sait ce que voit l’autruche dans le sab
 le » (Murphy 1951.S. Beckett)\nUn petit monde absurde et poétique caché so
 us le sable. Un désert. Un personnage au chapeau melon apparaît\, en quête
  de solitude et de silence. Ce désert est l'endroit rêvé ! Mais\, petit à 
 petit\, un univers enfoui se révèle. Une à une\, des valises fossilisées s
 ont découvertes dans le sable. Elles cachent des 'petites vies' singulière
 s qui tentent d'exister.\nLES INFOS PRATIQUES :\nTarif : 3€Pass 4 spectacl
 es : 10€Public : À partir de 6 ansAfin de s’adapter à la situation sanitai
 re liée à la COVID-19\, ce spectacle est 'en placement libre' avec une jau
 ge maximale de 120 personnes.Billets en vente sur www.monticket.re
DTSTART:20210115T100000Z
DTEND:20210115T110000Z
GEO:00;0
LOCATION:Théâtre des Sables
ORGANIZER:
SEQUENCE:1
SUMMARY:THÉÂTRE DE MARIONNETTES : Qui sait ce que voit l’autruche dans le s
 able - Compagnie La PATA NEGRA
TRANSP:OPAQUE
URL:https://www.letangsale.fr/mes-acces-rapides/telechargements/l-agenda-de
 s-manifestations/32-theatre-de-marionettes-qui-sait-ce-que-voit-l-autruche
 -dans-le-sable-compagnie-la-pata-negra
END:VEVENT
END:VCALENDAR
