BEGIN:VCALENDAR
VERSION:2.0
PRODID:-//Mairie de l’Étang-Salé//NONSGML kigkonsult.se iCalcreator 2.41.92//
CALSCALE:GREGORIAN
METHOD:PUBLISH
UID:61643234-3763-4463-a162-643436386436
X-WR-CALNAME:iCagenda
X-WR-CALDESC:Event Management Extension for Joomla!
X-WR-RELCALID:3E26604A-50F4-4449-8B3E-E4F4932D05B5
X-WR-TIMEZONE:Indian/Reunion
BEGIN:VTIMEZONE
TZID:Indian/Reunion
BEGIN:STANDARD
TZNAME:+04
DTSTART:20201107T200000
TZOFFSETFROM:+0000
TZOFFSETTO:+0400
END:STANDARD
END:VTIMEZONE
BEGIN:VEVENT
UID:33636664-3137-4261-b664-626130646335
DTSTAMP:20260425T020401Z
CATEGORIES:Conseil municipal
CLASS:PUBLIC
DESCRIPTION;ALTREP="CID:<FFFF__=0ABBE548DFE235B58f9e8a93d@coffeebean.com>":
 La prochaine séance du CONSEIL MUNICIPAL aura lieu le MERCREDI 10 AOÛT 202
 2 dans la Salle du Conseil\, sise à l'Hôtel de Ville (L'Étang-Salé les Hau
 ts).&nbsp\;\n&nbsp\; &nbsp\; &nbsp\; &nbsp\; &nbsp\; &nbsp\; &nbsp\; &nbsp
 \; &nbsp\; &nbsp\; &nbsp\; &nbsp\; &nbsp\; &nbsp\; &nbsp\; &nbsp\; &nbsp\;
  &nbsp\; &nbsp\; &nbsp\; &nbsp\; &nbsp\; &nbsp\; &nbsp\; &nbsp\; &nbsp\; &
 nbsp\; &nbsp\; &nbsp\; &nbsp\; &nbsp\;&nbsp\;
DTSTART:20220810T140000Z
DTEND:20220810T190000Z
GEO:00;0
LOCATION:Hôtel de Ville de L'Étang-Salé - Salle du Conseil
ORGANIZER;CN=:mailto:mairie@letangsale.fr
SEQUENCE:1
SUMMARY:CONSEIL MUNICIPAL : MERCREDI 10 AOÛT à 18h00 dans la Salle du Conse
 il
TRANSP:OPAQUE
URL:https://www.letangsale.fr/mes-acces-rapides/telechargements/calendrier-
 des-seances/143-conseil-municipal-mercredi-10-aout-a-18h00-dans-la-salle-d
 u-conseil
END:VEVENT
END:VCALENDAR
